{
 "currentVersion": 10.91,
 "serviceDescription": "Aerials/CarolinaBeach_1966",
 "name": "Aerials/CarolinaBeach_1966",
 "description": "",
 "extent": {
  "xmin": 2329643.938999698,
  "ymin": 97702.26591859393,
  "xmax": 2346228.913462695,
  "ymax": 124959.13884296695,
  "spatialReference": {
   "wkid": 102719,
   "latestWkid": 2264
  }
 },
 "initialExtent": {
  "xmin": 2329643.938999698,
  "ymin": 97702.26591859393,
  "xmax": 2346228.913462695,
  "ymax": 124959.13884296695,
  "spatialReference": {
   "wkid": 102719,
   "latestWkid": 2264
  }
 },
 "fullExtent": {
  "xmin": 2329643.938999698,
  "ymin": 97702.26591859393,
  "xmax": 2346228.913462695,
  "ymax": 124959.13884296695,
  "spatialReference": {
   "wkid": 102719,
   "latestWkid": 2264
  }
 },
 "hasMultidimensions": false,
 "pixelSizeX": 3.297867262477067,
 "pixelSizeY": 3.2978672624770744,
 "datasetFormat": "SDR",
 "uncompressedSize": 41564685,
 "blockWidth": 128,
 "blockHeight": 128,
 "compressionType": "LZ77",
 "bandNames": [
  "Band_1"
 ],
 "allowCopy": true,
 "allowAnalysis": true,
 "bandCount": 1,
 "pixelType": "U8",
 "minPixelSize": 0,
 "maxPixelSize": 0,
 "copyrightText": "",
 "serviceDataType": "esriImageServiceDataTypeGeneric",
 "serviceSourceType": "esriImageServiceSourceTypeDataset",
 "minValues": [
  0
 ],
 "maxValues": [
  255
 ],
 "meanValues": [
  122.97527583813037
 ],
 "stdvValues": [
  60.58356734050108
 ],
 "objectIdField": "",
 "fields": [],
 "capabilities": "Image,Metadata,Mensuration",
 "defaultMosaicMethod": "Center",
 "allowedMosaicMethods": "",
 "sortField": "",
 "sortValue": null,
 "sortAscending": true,
 "mosaicOperator": "First",
 "defaultCompressionQuality": 75,
 "defaultResamplingMethod": "Bilinear",
 "maxImageHeight": 4100,
 "maxImageWidth": 15000,
 "allowRasterFunction": true,
 "rasterFunctionInfos": [
  {
   "name": "None",
   "description": "",
   "help": ""
  }
 ],
 "rasterTypeInfos": [
  {
   "name": "Raster Dataset",
   "description": "Supports all ArcGIS Raster Datasets",
   "help": ""
  }
 ],
 "mensurationCapabilities": "Basic",
 "hasHistograms": true,
 "hasColormap": false,
 "hasRasterAttributeTable": false,
 "minScale": 0,
 "maxScale": 0,
 "exportTilesAllowed": false,
 "supportsStatistics": false,
 "supportsAdvancedQueries": false,
 "editFieldsInfo": null,
 "ownershipBasedAccessControlForRasters": null,
 "allowComputeTiePoints": false,
 "useStandardizedQueries": true,
 "advancedQueryCapabilities": {
  "useStandardizedQueries": true,
  "supportsStatistics": false,
  "supportsOrderBy": false,
  "supportsDistinct": false,
  "supportsPagination": false
 },
 "spatialReference": {
  "wkid": 102719,
  "latestWkid": 2264
 }
}
