{
 "currentVersion": 10.91,
 "serviceDescription": "Aerials/CarolinaBeach_2019",
 "name": "Aerials/CarolinaBeach_2019",
 "description": "",
 "extent": {
  "xmin": 2322173.989161917,
  "ymin": 96844.23331365452,
  "xmax": 2343529.7391619235,
  "ymax": 121699.2333136621,
  "spatialReference": {
   "wkid": 103122,
   "latestWkid": 6543
  }
 },
 "initialExtent": {
  "xmin": 2322173.989161917,
  "ymin": 96844.23331365452,
  "xmax": 2343529.7391619235,
  "ymax": 121699.2333136621,
  "spatialReference": {
   "wkid": 103122,
   "latestWkid": 6543
  }
 },
 "fullExtent": {
  "xmin": 2322173.989161917,
  "ymin": 96844.23331365452,
  "xmax": 2343529.7391619235,
  "ymax": 121699.2333136621,
  "spatialReference": {
   "wkid": 103122,
   "latestWkid": 6543
  }
 },
 "hasMultidimensions": false,
 "pixelSizeX": 0.25000000000007633,
 "pixelSizeY": 0.2500000000000763,
 "datasetFormat": "FGDBR",
 "uncompressedSize": 25478263980,
 "blockWidth": 128,
 "blockHeight": 128,
 "compressionType": "LZ77",
 "bandNames": [
  "Band_1",
  "Band_2",
  "Band_3"
 ],
 "allowCopy": true,
 "allowAnalysis": true,
 "bandCount": 3,
 "pixelType": "U8",
 "minPixelSize": 0,
 "maxPixelSize": 0,
 "copyrightText": "",
 "serviceDataType": "esriImageServiceDataTypeRGB",
 "serviceSourceType": "esriImageServiceSourceTypeDataset",
 "minValues": [
  0,
  0,
  0
 ],
 "maxValues": [
  255,
  255,
  255
 ],
 "meanValues": [
  121.36373503421139,
  117.15654409429159,
  105.35620566551779
 ],
 "stdvValues": [
  45.896524502801334,
  45.189480257467636,
  47.43483064064518
 ],
 "objectIdField": "",
 "fields": [],
 "capabilities": "Image,Metadata,Mensuration",
 "defaultMosaicMethod": "Center",
 "allowedMosaicMethods": "",
 "sortField": "",
 "sortValue": null,
 "sortAscending": true,
 "mosaicOperator": "First",
 "defaultCompressionQuality": 75,
 "defaultResamplingMethod": "Bilinear",
 "maxImageHeight": 4100,
 "maxImageWidth": 15000,
 "allowRasterFunction": true,
 "rasterFunctionInfos": [
  {
   "name": "None",
   "description": "",
   "help": ""
  }
 ],
 "rasterTypeInfos": [
  {
   "name": "Raster Dataset",
   "description": "Supports all ArcGIS Raster Datasets",
   "help": ""
  }
 ],
 "mensurationCapabilities": "Basic",
 "hasHistograms": true,
 "hasColormap": false,
 "hasRasterAttributeTable": false,
 "minScale": 0,
 "maxScale": 0,
 "exportTilesAllowed": false,
 "supportsStatistics": false,
 "supportsAdvancedQueries": false,
 "editFieldsInfo": null,
 "ownershipBasedAccessControlForRasters": null,
 "allowComputeTiePoints": false,
 "useStandardizedQueries": true,
 "advancedQueryCapabilities": {
  "useStandardizedQueries": true,
  "supportsStatistics": false,
  "supportsOrderBy": false,
  "supportsDistinct": false,
  "supportsPagination": false
 },
 "spatialReference": {
  "wkid": 103122,
  "latestWkid": 6543
 }
}
