{
 "currentVersion": 10.91,
 "serviceDescription": "Aerials/CarolinaBeach_2020",
 "name": "Aerials/CarolinaBeach_2020",
 "description": "",
 "extent": {
  "xmin": 2322173.4999999995,
  "ymin": 96844.00000000003,
  "xmax": 2343529.9999999995,
  "ymax": 121699.50000000003,
  "spatialReference": {
   "wkid": 103122,
   "latestWkid": 6543
  }
 },
 "initialExtent": {
  "xmin": 2322173.4999999995,
  "ymin": 96844.00000000003,
  "xmax": 2343529.9999999995,
  "ymax": 121699.50000000003,
  "spatialReference": {
   "wkid": 103122,
   "latestWkid": 6543
  }
 },
 "fullExtent": {
  "xmin": 2322173.4999999995,
  "ymin": 96844.00000000003,
  "xmax": 2343529.9999999995,
  "ymax": 121699.50000000003,
  "spatialReference": {
   "wkid": 103122,
   "latestWkid": 6543
  }
 },
 "hasMultidimensions": false,
 "pixelSizeX": 0.5,
 "pixelSizeY": 0.5,
 "datasetFormat": "FGDBR",
 "uncompressedSize": 21233059430,
 "blockWidth": 128,
 "blockHeight": 128,
 "compressionType": "LZ77",
 "bandNames": [
  "Band_1",
  "Band_2",
  "Band_3",
  "Band_4",
  "Band_5"
 ],
 "allowCopy": true,
 "allowAnalysis": true,
 "bandCount": 5,
 "pixelType": "U16",
 "minPixelSize": 0,
 "maxPixelSize": 0,
 "copyrightText": "",
 "serviceDataType": "esriImageServiceDataTypeGeneric",
 "serviceSourceType": "esriImageServiceSourceTypeDataset",
 "minValues": [
  0,
  0,
  0,
  0,
  0
 ],
 "maxValues": [
  255,
  255,
  255,
  255,
  255
 ],
 "meanValues": [
  74.45763169325807,
  76.87198360867585,
  74.71353805308247,
  82.22566074395903,
  109.10754643651464
 ],
 "stdvValues": [
  48.44039951755619,
  49.297984333764596,
  48.72386299859233,
  55.20178608125365,
  83.60962885691896
 ],
 "objectIdField": "",
 "fields": [],
 "capabilities": "Image,Metadata,Mensuration",
 "defaultMosaicMethod": "Center",
 "allowedMosaicMethods": "",
 "sortField": "",
 "sortValue": null,
 "sortAscending": true,
 "mosaicOperator": "First",
 "defaultCompressionQuality": 75,
 "defaultResamplingMethod": "Bilinear",
 "maxImageHeight": 4100,
 "maxImageWidth": 15000,
 "allowRasterFunction": true,
 "rasterFunctionInfos": [
  {
   "name": "None",
   "description": "",
   "help": ""
  }
 ],
 "rasterTypeInfos": [
  {
   "name": "Raster Dataset",
   "description": "Supports all ArcGIS Raster Datasets",
   "help": ""
  }
 ],
 "mensurationCapabilities": "Basic",
 "hasHistograms": true,
 "hasColormap": false,
 "hasRasterAttributeTable": false,
 "minScale": 0,
 "maxScale": 0,
 "exportTilesAllowed": false,
 "supportsStatistics": false,
 "supportsAdvancedQueries": false,
 "editFieldsInfo": null,
 "ownershipBasedAccessControlForRasters": null,
 "allowComputeTiePoints": false,
 "useStandardizedQueries": true,
 "advancedQueryCapabilities": {
  "useStandardizedQueries": true,
  "supportsStatistics": false,
  "supportsOrderBy": false,
  "supportsDistinct": false,
  "supportsPagination": false
 },
 "spatialReference": {
  "wkid": 103122,
  "latestWkid": 6543
 }
}
