View In:
ArcGIS JavaScript
ArcGIS Online Map Viewer
ArcGIS Earth
ArcMap
View Footprint In:
ArcGIS Online Map Viewer
Service Description: Aerials/CarolinaBeach_1981
Name: Aerials/CarolinaBeach_1981
Description:
Single Fused Map Cache: false
Extent:
XMin: 2324202.1907854234
YMin: 85332.20823977728
XMax: 2358091.1912104236
YMax: 119393.49641477727
Spatial Reference: 103122
(6543)
Initial Extent:
XMin: 2324202.1907854234
YMin: 85332.20823977728
XMax: 2358091.1912104236
YMax: 119393.49641477727
Spatial Reference: 103122
(6543)
Full Extent:
XMin: 2324202.1907854234
YMin: 85332.20823977728
XMax: 2358091.1912104236
YMax: 119393.49641477727
Spatial Reference: 103122
(6543)
Pixel Size X: 3.4457550000000214
Pixel Size Y: 3.4457549999999992
Band Count: 1
Pixel Type: U16
RasterFunction Infos: {"rasterFunctionInfos": [{
"name": "None",
"description": "",
"help": ""
}]}
Mensuration Capabilities: Basic
Has Histograms: true
Has Colormap: false
Has Multi Dimensions : false
Rendering Rule:
Min Scale: 0
Max Scale: 0
Copyright Text:
Service Data Type: esriImageServiceDataTypeGeneric
Min Values: 8
Max Values: 255
Mean Values: 105.71984376276565
Standard Deviation Values: 68.54559252860524
Object ID Field:
Fields:
None
Default Mosaic Method: Center
Allowed Mosaic Methods:
SortField:
SortValue: null
Mosaic Operator: First
Default Compression Quality: 75
Default Resampling Method: Bilinear
Max Record Count: null
Max Image Height: 4100
Max Image Width: 15000
Max Download Image Count: null
Max Mosaic Image Count: null
Allow Raster Function: true
Allow Copy: true
Allow Analysis: true
Allow Compute TiePoints: false
Supports Statistics: false
Supports Advanced Queries: false
Use StandardizedQueries: true
Raster Type Infos:
Name: Raster Dataset
Description: Supports all ArcGIS Raster Datasets
Help:
Has Raster Attribute Table: false
Edit Fields Info: null
Ownership Based AccessControl For Rasters: null
Child Resources:
Info
Histograms
Statistics
Key Properties
Legend
Raster Function Infos
Supported Operations:
Export Image
Identify
Measure
Compute Histograms
Compute Statistics Histograms
Get Samples
Compute Class Statistics
Query Boundary
Compute Pixel Location
Compute Angles
Validate
Project