View In:
ArcGIS JavaScript
ArcGIS Online Map Viewer
ArcGIS Earth
ArcMap
View Footprint In:
ArcGIS Online Map Viewer
Service Description: Aerials/CarolinaBeach_2002
Name: Aerials/CarolinaBeach_2002
Description:
Single Fused Map Cache: false
Extent:
XMin: 2325000.0001220703
YMin: 95000.00012207031
XMax: 2345000.0001220703
YMax: 125000.00012207031
Spatial Reference: 103122
(6543)
Initial Extent:
XMin: 2325000.0001220703
YMin: 95000.00012207031
XMax: 2345000.0001220703
YMax: 125000.00012207031
Spatial Reference: 103122
(6543)
Full Extent:
XMin: 2325000.0001220703
YMin: 95000.00012207031
XMax: 2345000.0001220703
YMax: 125000.00012207031
Spatial Reference: 103122
(6543)
Pixel Size X: 1.0
Pixel Size Y: 1.0
Band Count: 3
Pixel Type: U8
RasterFunction Infos: {"rasterFunctionInfos": [{
"name": "None",
"description": "",
"help": ""
}]}
Mensuration Capabilities:
Has Histograms: true
Has Colormap: false
Has Multi Dimensions : false
Rendering Rule:
Min Scale: 0
Max Scale: 0
Copyright Text:
Service Data Type: esriImageServiceDataTypeRGB
Min Values: 0, 0, 0
Max Values: 255, 255, 255
Mean Values: 71.579735265, 74.656893005, 70.76360212722223
Standard Deviation Values: 68.84672964605728, 69.86289606422474, 67.16812769537887
Object ID Field:
Fields:
None
Default Mosaic Method: Center
Allowed Mosaic Methods:
SortField:
SortValue: null
Mosaic Operator: First
Default Compression Quality: 75
Default Resampling Method: Bilinear
Max Record Count: null
Max Image Height: 4100
Max Image Width: 15000
Max Download Image Count: null
Max Mosaic Image Count: null
Allow Raster Function: true
Allow Copy: true
Allow Analysis: true
Allow Compute TiePoints: false
Supports Statistics: false
Supports Advanced Queries: false
Use StandardizedQueries: true
Raster Type Infos:
Name: Raster Dataset
Description: Supports all ArcGIS Raster Datasets
Help:
Has Raster Attribute Table: false
Edit Fields Info: null
Ownership Based AccessControl For Rasters: null
Child Resources:
Info
Histograms
Statistics
Key Properties
Legend
Raster Function Infos
Supported Operations:
Export Image
Identify
Compute Histograms
Compute Statistics Histograms
Get Samples
Compute Class Statistics
Query Boundary
Compute Pixel Location
Compute Angles
Validate
Project