View In:
ArcGIS JavaScript
ArcGIS Online Map Viewer
ArcGIS Earth
ArcMap
View Footprint In:
ArcGIS Online Map Viewer
Service Description: Aerials/CarolinaBeach_2010
Name: Aerials/CarolinaBeach_2010
Description:
Single Fused Map Cache: false
Extent:
XMin: 2324999.9999999995
YMin: 95000.00000000418
XMax: 2344999.9999999995
YMax: 125000.00000000418
Spatial Reference: 103122
(6543)
Initial Extent:
XMin: 2324999.9999999995
YMin: 95000.00000000418
XMax: 2344999.9999999995
YMax: 125000.00000000418
Spatial Reference: 103122
(6543)
Full Extent:
XMin: 2324999.9999999995
YMin: 95000.00000000418
XMax: 2344999.9999999995
YMax: 125000.00000000418
Spatial Reference: 103122
(6543)
Pixel Size X: 0.5
Pixel Size Y: 0.5
Band Count: 3
Pixel Type: U8
RasterFunction Infos: {"rasterFunctionInfos": [{
"name": "None",
"description": "",
"help": ""
}]}
Mensuration Capabilities: Basic
Has Histograms: true
Has Colormap: false
Has Multi Dimensions : false
Rendering Rule:
Min Scale: 0
Max Scale: 0
Copyright Text:
Service Data Type: esriImageServiceDataTypeRGB
Min Values: 0, 0, 0
Max Values: 251, 251, 251
Mean Values: 57.67084374, 59.16485514875, 58.959788206527776
Standard Deviation Values: 51.5482081046908, 52.21629474119367, 51.62601803677989
Object ID Field:
Fields:
None
Default Mosaic Method: Center
Allowed Mosaic Methods:
SortField:
SortValue: null
Mosaic Operator: First
Default Compression Quality: 75
Default Resampling Method: Bilinear
Max Record Count: null
Max Image Height: 4100
Max Image Width: 15000
Max Download Image Count: null
Max Mosaic Image Count: null
Allow Raster Function: true
Allow Copy: true
Allow Analysis: true
Allow Compute TiePoints: false
Supports Statistics: false
Supports Advanced Queries: false
Use StandardizedQueries: true
Raster Type Infos:
Name: Raster Dataset
Description: Supports all ArcGIS Raster Datasets
Help:
Has Raster Attribute Table: false
Edit Fields Info: null
Ownership Based AccessControl For Rasters: null
Child Resources:
Info
Histograms
Statistics
Key Properties
Legend
Raster Function Infos
Supported Operations:
Export Image
Identify
Measure
Compute Histograms
Compute Statistics Histograms
Get Samples
Compute Class Statistics
Query Boundary
Compute Pixel Location
Compute Angles
Validate
Project