View In:
ArcGIS JavaScript
ArcGIS Online Map Viewer
ArcGIS Earth
ArcMap
View Footprint In:
ArcGIS Online Map Viewer
Service Description: Aerials/CarolinaBeach_2021
Name: Aerials/CarolinaBeach_2021
Description:
Single Fused Map Cache: false
Extent:
XMin: 2326524.4791666484
YMin: 97628.34201371708
XMax: 2340995.1822985485
YMax: 121579.94791667329
Spatial Reference: 103122
(6543)
Initial Extent:
XMin: 2326524.4791666484
YMin: 97628.34201371708
XMax: 2340995.1822985485
YMax: 121579.94791667329
Spatial Reference: 103122
(6543)
Full Extent:
XMin: 2326524.4791666484
YMin: 97628.34201371708
XMax: 2340995.1822985485
YMax: 121579.94791667329
Spatial Reference: 103122
(6543)
Pixel Size X: 0.21701388899236917
Pixel Size Y: 0.21701388889050563
Band Count: 4
Pixel Type: U8
RasterFunction Infos: {"rasterFunctionInfos": [{
"name": "None",
"description": "",
"help": ""
}]}
Mensuration Capabilities: Basic
Has Histograms: true
Has Colormap: false
Has Multi Dimensions : false
Rendering Rule:
Min Scale: 0
Max Scale: 0
Copyright Text:
Service Data Type: esriImageServiceDataTypeProcessed
Min Values: 0, 0, 0, 255
Max Values: 255, 255, 255, 255
Mean Values: 119.5226410800584, 110.52639407535804, 89.4108200073492, 255
Standard Deviation Values: 46.13517358930546, 41.46041630853776, 42.16947962996489, 0
Object ID Field:
Fields:
None
Default Mosaic Method: Center
Allowed Mosaic Methods:
SortField:
SortValue: null
Mosaic Operator: First
Default Compression Quality: 75
Default Resampling Method: Bilinear
Max Record Count: null
Max Image Height: 4100
Max Image Width: 15000
Max Download Image Count: null
Max Mosaic Image Count: null
Allow Raster Function: true
Allow Copy: true
Allow Analysis: true
Allow Compute TiePoints: false
Supports Statistics: false
Supports Advanced Queries: false
Use StandardizedQueries: true
Raster Type Infos:
Name: Raster Dataset
Description: Supports all ArcGIS Raster Datasets
Help:
Has Raster Attribute Table: false
Edit Fields Info: null
Ownership Based AccessControl For Rasters: null
Child Resources:
Info
Histograms
Statistics
Key Properties
Legend
Raster Function Infos
Supported Operations:
Export Image
Identify
Measure
Compute Histograms
Compute Statistics Histograms
Get Samples
Compute Class Statistics
Query Boundary
Compute Pixel Location
Compute Angles
Validate
Project