View In:
ArcGIS JavaScript
ArcGIS Online Map Viewer
ArcGIS Earth
ArcMap
View Footprint In:
ArcGIS Online Map Viewer
Service Description: Elevation/Elevation
Name: Elevation/Elevation
Description:
Single Fused Map Cache: false
Extent:
XMin: 2326521.8726032227
YMin: 97628.1249280572
XMax: 2340996.8726032227
YMax: 121581.2499280572
Spatial Reference: PROJCS["NAD_1983_2011_North_Carolina_ftUS",GEOGCS["GCS_NAD83_2011",DATUM["D_NAD_1983_2011",SPHEROID["GRS_1980",6378137.0,298.257222101]],PRIMEM["Greenwich",0.0],UNIT["Degree",0.0174532925199433]],PROJECTION["Lambert_Conformal_Conic"],PARAMETER["false_easting",2000000.0],PARAMETER["false_northing",0.0],PARAMETER["central_meridian",-79.0],PARAMETER["standard_parallel_1",34.3333333333333],PARAMETER["standard_parallel_2",36.1666666666667],PARAMETER["latitude_of_origin",33.75],UNIT["Foot_US",0.3048006096012192]]
Initial Extent:
XMin: 2326521.8726032227
YMin: 97628.1249280572
XMax: 2340996.8726032227
YMax: 121581.2499280572
Spatial Reference: PROJCS["NAD_1983_2011_North_Carolina_ftUS",GEOGCS["GCS_NAD83_2011",DATUM["D_NAD_1983_2011",SPHEROID["GRS_1980",6378137.0,298.257222101]],PRIMEM["Greenwich",0.0],UNIT["Degree",0.0174532925199433]],PROJECTION["Lambert_Conformal_Conic"],PARAMETER["false_easting",2000000.0],PARAMETER["false_northing",0.0],PARAMETER["central_meridian",-79.0],PARAMETER["standard_parallel_1",34.3333333333333],PARAMETER["standard_parallel_2",36.1666666666667],PARAMETER["latitude_of_origin",33.75],UNIT["Foot_US",0.3048006096012192]]
Full Extent:
XMin: 2326521.8726032227
YMin: 97628.1249280572
XMax: 2340996.8726032227
YMax: 121581.2499280572
Spatial Reference: PROJCS["NAD_1983_2011_North_Carolina_ftUS",GEOGCS["GCS_NAD83_2011",DATUM["D_NAD_1983_2011",SPHEROID["GRS_1980",6378137.0,298.257222101]],PRIMEM["Greenwich",0.0],UNIT["Degree",0.0174532925199433]],PROJECTION["Lambert_Conformal_Conic"],PARAMETER["false_easting",2000000.0],PARAMETER["false_northing",0.0],PARAMETER["central_meridian",-79.0],PARAMETER["standard_parallel_1",34.3333333333333],PARAMETER["standard_parallel_2",36.1666666666667],PARAMETER["latitude_of_origin",33.75],UNIT["Foot_US",0.3048006096012192]]
Pixel Size X: 3.125
Pixel Size Y: 3.125
Band Count: 1
Pixel Type: F32
RasterFunction Infos: {"rasterFunctionInfos": [{
"name": "None",
"description": "",
"help": ""
}]}
Mensuration Capabilities: Basic
Has Histograms: true
Has Colormap: false
Has Multi Dimensions : false
Rendering Rule:
Min Scale: 0
Max Scale: 0
Copyright Text:
Service Data Type: esriImageServiceDataTypeElevation
Min Values: -2.9998631477355957
Max Values: 52.917259216308594
Mean Values: 11.812717425997802
Standard Deviation Values: 7.315634838977861
Object ID Field:
Fields:
None
Default Mosaic Method: Center
Allowed Mosaic Methods:
SortField:
SortValue: null
Mosaic Operator: First
Default Compression Quality: 75
Default Resampling Method: Bilinear
Max Record Count: null
Max Image Height: 4100
Max Image Width: 15000
Max Download Image Count: null
Max Mosaic Image Count: null
Allow Raster Function: true
Allow Copy: true
Allow Analysis: true
Allow Compute TiePoints: false
Supports Statistics: false
Supports Advanced Queries: false
Use StandardizedQueries: true
Raster Type Infos:
Name: Raster Dataset
Description: Supports all ArcGIS Raster Datasets
Help:
Has Raster Attribute Table: false
Edit Fields Info: null
Ownership Based AccessControl For Rasters: null
Child Resources:
Info
Histograms
Statistics
Key Properties
Legend
Raster Function Infos
Supported Operations:
Export Image
Identify
Measure
Compute Histograms
Compute Statistics Histograms
Get Samples
Compute Class Statistics
Query Boundary
Compute Pixel Location
Compute Angles
Validate
Project
Calculate Volume