View In:
ArcGIS JavaScript
ArcGIS Online Map Viewer
ArcGIS Earth
ArcMap
View Footprint In:
ArcGIS Online Map Viewer
Service Description: Aerials/CarolinaBeach_1966
Name: Aerials/CarolinaBeach_1966
Description:
Single Fused Map Cache: false
Extent:
XMin: 2329643.938999698
YMin: 97702.26591859393
XMax: 2346228.913462695
YMax: 124959.13884296695
Spatial Reference: 102719
(2264)
Initial Extent:
XMin: 2329643.938999698
YMin: 97702.26591859393
XMax: 2346228.913462695
YMax: 124959.13884296695
Spatial Reference: 102719
(2264)
Full Extent:
XMin: 2329643.938999698
YMin: 97702.26591859393
XMax: 2346228.913462695
YMax: 124959.13884296695
Spatial Reference: 102719
(2264)
Pixel Size X: 3.297867262477067
Pixel Size Y: 3.2978672624770744
Band Count: 1
Pixel Type: U8
RasterFunction Infos: {"rasterFunctionInfos": [{
"name": "None",
"description": "",
"help": ""
}]}
Mensuration Capabilities: Basic
Has Histograms: true
Has Colormap: false
Has Multi Dimensions : false
Rendering Rule:
Min Scale: 0
Max Scale: 0
Copyright Text:
Service Data Type: esriImageServiceDataTypeGeneric
Min Values: 0
Max Values: 255
Mean Values: 122.97527583813037
Standard Deviation Values: 60.58356734050108
Object ID Field:
Fields:
None
Default Mosaic Method: Center
Allowed Mosaic Methods:
SortField:
SortValue: null
Mosaic Operator: First
Default Compression Quality: 75
Default Resampling Method: Bilinear
Max Record Count: null
Max Image Height: 4100
Max Image Width: 15000
Max Download Image Count: null
Max Mosaic Image Count: null
Allow Raster Function: true
Allow Copy: true
Allow Analysis: true
Allow Compute TiePoints: false
Supports Statistics: false
Supports Advanced Queries: false
Use StandardizedQueries: true
Raster Type Infos:
Name: Raster Dataset
Description: Supports all ArcGIS Raster Datasets
Help:
Has Raster Attribute Table: false
Edit Fields Info: null
Ownership Based AccessControl For Rasters: null
Child Resources:
Info
Histograms
Statistics
Key Properties
Legend
Raster Function Infos
Supported Operations:
Export Image
Identify
Measure
Compute Histograms
Compute Statistics Histograms
Get Samples
Compute Class Statistics
Query Boundary
Compute Pixel Location
Compute Angles
Validate
Project