View In:
ArcGIS JavaScript
ArcGIS Online Map Viewer
ArcGIS Earth
ArcMap
View Footprint In:
ArcGIS Online Map Viewer
Service Description: Aerials/CarolinaBeach_2019
Name: Aerials/CarolinaBeach_2019
Description:
Single Fused Map Cache: false
Extent:
XMin: 2322173.989161917
YMin: 96844.23331365452
XMax: 2343529.7391619235
YMax: 121699.2333136621
Spatial Reference: 103122
(6543)
Initial Extent:
XMin: 2322173.989161917
YMin: 96844.23331365452
XMax: 2343529.7391619235
YMax: 121699.2333136621
Spatial Reference: 103122
(6543)
Full Extent:
XMin: 2322173.989161917
YMin: 96844.23331365452
XMax: 2343529.7391619235
YMax: 121699.2333136621
Spatial Reference: 103122
(6543)
Pixel Size X: 0.25000000000007633
Pixel Size Y: 0.2500000000000763
Band Count: 3
Pixel Type: U8
RasterFunction Infos: {"rasterFunctionInfos": [{
"name": "None",
"description": "",
"help": ""
}]}
Mensuration Capabilities: Basic
Has Histograms: true
Has Colormap: false
Has Multi Dimensions : false
Rendering Rule:
Min Scale: 0
Max Scale: 0
Copyright Text:
Service Data Type: esriImageServiceDataTypeRGB
Min Values: 0, 0, 0
Max Values: 255, 255, 255
Mean Values: 121.36373503421139, 117.15654409429159, 105.35620566551779
Standard Deviation Values: 45.896524502801334, 45.189480257467636, 47.43483064064518
Object ID Field:
Fields:
None
Default Mosaic Method: Center
Allowed Mosaic Methods:
SortField:
SortValue: null
Mosaic Operator: First
Default Compression Quality: 75
Default Resampling Method: Bilinear
Max Record Count: null
Max Image Height: 4100
Max Image Width: 15000
Max Download Image Count: null
Max Mosaic Image Count: null
Allow Raster Function: true
Allow Copy: true
Allow Analysis: true
Allow Compute TiePoints: false
Supports Statistics: false
Supports Advanced Queries: false
Use StandardizedQueries: true
Raster Type Infos:
Name: Raster Dataset
Description: Supports all ArcGIS Raster Datasets
Help:
Has Raster Attribute Table: false
Edit Fields Info: null
Ownership Based AccessControl For Rasters: null
Child Resources:
Info
Histograms
Statistics
Key Properties
Legend
Raster Function Infos
Supported Operations:
Export Image
Identify
Measure
Compute Histograms
Compute Statistics Histograms
Get Samples
Compute Class Statistics
Query Boundary
Compute Pixel Location
Compute Angles
Validate
Project