View In:
ArcGIS JavaScript
ArcGIS Online Map Viewer
ArcGIS Earth
ArcMap
View Footprint In:
ArcGIS Online Map Viewer
Service Description: Aerials/CarolinaBeach_2020
Name: Aerials/CarolinaBeach_2020
Description:
Single Fused Map Cache: false
Extent:
XMin: 2322173.4999999995
YMin: 96844.00000000003
XMax: 2343529.9999999995
YMax: 121699.50000000003
Spatial Reference: 103122
(6543)
Initial Extent:
XMin: 2322173.4999999995
YMin: 96844.00000000003
XMax: 2343529.9999999995
YMax: 121699.50000000003
Spatial Reference: 103122
(6543)
Full Extent:
XMin: 2322173.4999999995
YMin: 96844.00000000003
XMax: 2343529.9999999995
YMax: 121699.50000000003
Spatial Reference: 103122
(6543)
Pixel Size X: 0.5
Pixel Size Y: 0.5
Band Count: 5
Pixel Type: U16
RasterFunction Infos: {"rasterFunctionInfos": [{
"name": "None",
"description": "",
"help": ""
}]}
Mensuration Capabilities: Basic
Has Histograms: true
Has Colormap: false
Has Multi Dimensions : false
Rendering Rule:
Min Scale: 0
Max Scale: 0
Copyright Text:
Service Data Type: esriImageServiceDataTypeGeneric
Min Values: 0, 0, 0, 0, 0
Max Values: 255, 255, 255, 255, 255
Mean Values: 74.45763169325807, 76.87198360867585, 74.71353805308247, 82.22566074395903, 109.10754643651464
Standard Deviation Values: 48.44039951755619, 49.297984333764596, 48.72386299859233, 55.20178608125365, 83.60962885691896
Object ID Field:
Fields:
None
Default Mosaic Method: Center
Allowed Mosaic Methods:
SortField:
SortValue: null
Mosaic Operator: First
Default Compression Quality: 75
Default Resampling Method: Bilinear
Max Record Count: null
Max Image Height: 4100
Max Image Width: 15000
Max Download Image Count: null
Max Mosaic Image Count: null
Allow Raster Function: true
Allow Copy: true
Allow Analysis: true
Allow Compute TiePoints: false
Supports Statistics: false
Supports Advanced Queries: false
Use StandardizedQueries: true
Raster Type Infos:
Name: Raster Dataset
Description: Supports all ArcGIS Raster Datasets
Help:
Has Raster Attribute Table: false
Edit Fields Info: null
Ownership Based AccessControl For Rasters: null
Child Resources:
Info
Histograms
Statistics
Key Properties
Legend
Raster Function Infos
Supported Operations:
Export Image
Identify
Measure
Compute Histograms
Compute Statistics Histograms
Get Samples
Compute Class Statistics
Query Boundary
Compute Pixel Location
Compute Angles
Validate
Project